BEGIN:VCALENDAR
VERSION:2.0
PRODID:spatie/icalendar-generator
DESCRIPTION:Events from Hasiči Senohraby
X-WR-CALDESC:Events from Hasiči Senohraby
REFRESH-INTERVAL;VALUE=DURATION:PT1440M
X-PUBLISHED-TTL:PT1440M
BEGIN:VTIMEZONE
TZID:Europe/Prague
BEGIN:STANDARD
DTSTART:20251026T030000Z
TZOFFSETFROM:+0200
TZOFFSETTO:+0100
END:STANDARD
BEGIN:DAYLIGHT
DTSTART:20260329T020000Z
TZOFFSETFROM:+0100
TZOFFSETTO:+0200
END:DAYLIGHT
END:VTIMEZONE
BEGIN:VTIMEZONE
TZID:UTC
BEGIN:STANDARD
DTSTART:20250725T181447Z
TZOFFSETFROM:+0000
TZOFFSETTO:+0000
END:STANDARD
END:VTIMEZONE
BEGIN:VEVENT
UID:27-19
DTSTAMP:20260421T181447Z
SUMMARY:Umím pomoci – společně zachráníme
LOCATION:Hasičárna Senohraby Školní 270  Senohraby Česká Republika 25
 1 66
ORGANIZER;CN=Martin Brož:MAILTO:code@martin-broz.cz
DTSTART;TZID=Europe/Prague:20260321T140000
DTEND;TZID=Europe/Prague:20260321T163000
X-ALT-DESC;FMTTYPE=TEXT/HTML:<p>Hasiči Senohraby ve spolupráci s odborn
 íky ze složek Integrovaného záchranného systému ČR připravili novo
 u vzdělávací akci\, která občanům přiblíží\, jak chránit sebe\,
  svůj domov i své okolí v krizových situacích.</p>\n
CATEGORIES:Společné
URL;VALUE=URI:https://hasicisenohraby.cz/index.php/mc-events/umim-pomoci-sp
 olecne-zachranime-2/
METHOD:PUBLISH
END:VEVENT
END:VCALENDAR