BEGIN:VCALENDAR
VERSION:2.0
PRODID:spatie/icalendar-generator
DESCRIPTION:Events from Hasiči Senohraby
X-WR-CALDESC:Events from Hasiči Senohraby
REFRESH-INTERVAL;VALUE=DURATION:PT1440M
X-PUBLISHED-TTL:PT1440M
BEGIN:VTIMEZONE
TZID:Europe/Prague
BEGIN:DAYLIGHT
DTSTART:20250330T020000Z
TZOFFSETFROM:+0100
TZOFFSETTO:+0200
END:DAYLIGHT
BEGIN:STANDARD
DTSTART:20251026T030000Z
TZOFFSETFROM:+0200
TZOFFSETTO:+0100
END:STANDARD
BEGIN:DAYLIGHT
DTSTART:20260329T020000Z
TZOFFSETFROM:+0100
TZOFFSETTO:+0200
END:DAYLIGHT
END:VTIMEZONE
BEGIN:VTIMEZONE
TZID:UTC
BEGIN:STANDARD
DTSTART:20250725T194914Z
TZOFFSETFROM:+0000
TZOFFSETTO:+0000
END:STANDARD
END:VTIMEZONE
BEGIN:VEVENT
UID:15-9
DTSTAMP:20260421T194914Z
SUMMARY:Údržba techniky + hasičského domu
LOCATION:Hasičárna Senohraby Školní 270  Senohraby Česká Republika 25
 1 66
ORGANIZER;CN=Martin Brož:MAILTO:code@martin-broz.cz
DTSTART;TZID=Europe/Prague:20251217T190000
DTEND;TZID=Europe/Prague:20251217T203000
X-ALT-DESC;FMTTYPE=TEXT/HTML:Technika (kontrola\, opravy\, náplně\, funk
 čnost) Hasičský dům (kontrola\, opravy) zodpovídají - Neuber\, Fajst
 avr\, Šelicha\, Michl
CATEGORIES:Výjezdová jednotka
URL;VALUE=URI:https://hasicisenohraby.cz/index.php/mc-events/udrzba-technik
 y-hasicskeho-domu-5/
METHOD:PUBLISH
END:VEVENT
END:VCALENDAR