BEGIN:VCALENDAR
VERSION:2.0
PRODID:spatie/icalendar-generator
DESCRIPTION:Events from Hasiči Senohraby
X-WR-CALDESC:Events from Hasiči Senohraby
REFRESH-INTERVAL;VALUE=DURATION:PT1440M
X-PUBLISHED-TTL:PT1440M
BEGIN:VTIMEZONE
TZID:Europe/Prague
BEGIN:STANDARD
DTSTART:20251026T030000Z
TZOFFSETFROM:+0200
TZOFFSETTO:+0100
END:STANDARD
BEGIN:DAYLIGHT
DTSTART:20260329T020000Z
TZOFFSETFROM:+0100
TZOFFSETTO:+0200
END:DAYLIGHT
END:VTIMEZONE
BEGIN:VTIMEZONE
TZID:UTC
BEGIN:STANDARD
DTSTART:20250725T180420Z
TZOFFSETFROM:+0000
TZOFFSETTO:+0000
END:STANDARD
END:VTIMEZONE
BEGIN:VEVENT
UID:16-10
DTSTAMP:20260421T180420Z
SUMMARY:JSDH Senohraby - Poslední kafíčko (aneb poslední kafíčko v ro
 ce a poté rozchod na silvestra)
LOCATION:Hasičárna Senohraby Školní 270  Senohraby Česká Republika 25
 1 66
ORGANIZER;CN=Martin Brož:MAILTO:code@martin-broz.cz
DTSTART;TZID=Europe/Prague:20251231T153000
DTEND;TZID=Europe/Prague:20251231T163000
X-ALT-DESC;FMTTYPE=TEXT/HTML:Poslední kafíčko (aneb poslední kafíčko 
 v roce a poté rozchod na silvestra)
CATEGORIES:Výjezdová jednotka
URL;VALUE=URI:https://hasicisenohraby.cz/index.php/mc-events/jsdh-senohraby
 -posledni-kaficko-aneb-posledni-kaficko-v-roce-a-pote-rozchod-na-silvestra
 /
METHOD:PUBLISH
END:VEVENT
END:VCALENDAR