BEGIN:VCALENDAR
VERSION:2.0
PRODID:spatie/icalendar-generator
DESCRIPTION:Events from Hasiči Senohraby
X-WR-CALDESC:Events from Hasiči Senohraby
REFRESH-INTERVAL;VALUE=DURATION:PT1440M
X-PUBLISHED-TTL:PT1440M
BEGIN:VTIMEZONE
TZID:Europe/Prague
BEGIN:STANDARD
DTSTART:20251026T030000Z
TZOFFSETFROM:+0200
TZOFFSETTO:+0100
END:STANDARD
BEGIN:DAYLIGHT
DTSTART:20260329T020000Z
TZOFFSETFROM:+0100
TZOFFSETTO:+0200
END:DAYLIGHT
END:VTIMEZONE
BEGIN:VTIMEZONE
TZID:UTC
BEGIN:STANDARD
DTSTART:20250725T180315Z
TZOFFSETFROM:+0000
TZOFFSETTO:+0000
END:STANDARD
END:VTIMEZONE
BEGIN:VEVENT
UID:23-15
DTSTAMP:20260421T180315Z
SUMMARY:Hasičský ples
LOCATION:Hotelový resort SEN Malostranská 344  Senohraby  25166
ORGANIZER;CN=Roman Bílý:MAILTO:bily.roman@gmail.com
DTSTART;TZID=Europe/Prague:20260228T200000
DTEND;TZID=Europe/Prague:20260301T020000
X-ALT-DESC;FMTTYPE=TEXT/HTML:Hasičský ples SDH Senohraby se bude konat tr
 adičně na Hotelu SEN. Pro zakoupení vstupenek zde zveřejníme odkaz na
  přelomu měsíce ledna a února.
CATEGORIES:Sbor
URL;VALUE=URI:https://hasicisenohraby.cz/index.php/mc-events/hasicsky-ples/
METHOD:PUBLISH
END:VEVENT
END:VCALENDAR