BEGIN:VCALENDAR
VERSION:2.0
PRODID:spatie/icalendar-generator
DESCRIPTION:Events from Hasiči Senohraby
X-WR-CALDESC:Events from Hasiči Senohraby
REFRESH-INTERVAL;VALUE=DURATION:PT1440M
X-PUBLISHED-TTL:PT1440M
BEGIN:VTIMEZONE
TZID:Europe/Prague
BEGIN:DAYLIGHT
DTSTART:20250330T020000Z
TZOFFSETFROM:+0100
TZOFFSETTO:+0200
END:DAYLIGHT
BEGIN:STANDARD
DTSTART:20251026T030000Z
TZOFFSETFROM:+0200
TZOFFSETTO:+0100
END:STANDARD
BEGIN:DAYLIGHT
DTSTART:20260329T020000Z
TZOFFSETFROM:+0100
TZOFFSETTO:+0200
END:DAYLIGHT
END:VTIMEZONE
BEGIN:VTIMEZONE
TZID:UTC
BEGIN:STANDARD
DTSTART:20250725T180314Z
TZOFFSETFROM:+0000
TZOFFSETTO:+0000
END:STANDARD
END:VTIMEZONE
BEGIN:VEVENT
UID:21-12
DTSTAMP:20260421T180314Z
SUMMARY:Betlémské světlo
LOCATION:Prostor za hasičárnou Školní 270  Senohraby  25166
ORGANIZER;CN=Martin Brož:MAILTO:code@martin-broz.cz
DTSTART;TZID=Europe/Prague:20251213T140000
DTEND;TZID=Europe/Prague:20251213T170000
X-ALT-DESC;FMTTYPE=TEXT/HTML:Již tradičně budou členové SDH Senohraby 
 za podpory spolku Obec baráčníků Senohraby rozdávat Betlémské svět
 lo v prostoru za hasičárnou. Přijďte si užít vánoční náladu. Bud
 e připraveno i drobné pohoštění. Vaše svíčky vám zapálíme v ča
 se od 14.00 hod. Těšíme se na Vás.
CATEGORIES:Společné
URL;VALUE=URI:https://hasicisenohraby.cz/index.php/mc-events/betlemske-svet
 lo/
METHOD:PUBLISH
END:VEVENT
END:VCALENDAR